BEGIN:VCALENDAR
VERSION:2.0
CALSCALE:GREGORIAN
BEGIN:VTIMEZONE
TZID:Europe/Amsterdam
LAST-MODIFIED:20231222T233358Z
TZURL:https://www.tzurl.org/zoneinfo-outlook/Europe/Amsterdam
X-LIC-LOCATION:Europe/Amsterdam
BEGIN:DAYLIGHT
TZNAME:CEST
TZOFFSETFROM:+0100
TZOFFSETTO:+0200
DTSTART:19700329T020000
RRULE:FREQ=YEARLY;BYMONTH=3;BYDAY=-1SU
END:DAYLIGHT
BEGIN:STANDARD
TZNAME:CET
TZOFFSETFROM:+0200
TZOFFSETTO:+0100
DTSTART:19701025T030000
RRULE:FREQ=YEARLY;BYMONTH=10;BYDAY=-1SU
END:STANDARD
END:VTIMEZONE
BEGIN:VEVENT
DTSTAMP:20240508T113705Z
DTSTART;TZID=Europe/Amsterdam:20251018T100000
DTEND;TZID=Europe/Amsterdam:20251018T170000
SUMMARY:Grote Welzijnsbeurs Zeeland
DESCRIPTION:Op zaterdag 18 oktober 2025 vindt de tweede editie van de Grote Welzijnsbeurs Zeeland plaats in de Zeelandhallen te Goes. Het gezondste en gezelligste dagje uit vol inspiratie\, ideeën en informatie. Met wel 250+ diverse stands.
LOCATION:Zeelandhallen\, Goes\, Nederland
END:VEVENT
END:VCALENDAR
